BEGIN:VCALENDAR
VERSION:2.0
PRODID:-//eventon.com NONSGML v1.0//EN
BEGIN:VEVENT
UID:69ed61b3b2c85
DTSTAMP:20260426T005203
DTSTART:20220130T093000Z
DTEND:20220130T173000Z
LOCATION:FELLOWS Dogs Beauty Louge + Academy Via Gavardina Di Sopra\,  34\,  Ponte San Marco
SUMMARY:Workshop: "Il cane di razza: riproduzione e gravidanza"
DESCRIPTION: 09:15 Registrazione partecipanti 09:30 Apertura della giornata\,  presentazione Anatomia e fisiologia della riproduzione. il Ciclo estrale nel cane 12:30 Pausa pranzo con brunch 14:00 Ripresa lavori Fisiologia della Gravidanza 17:30 Chiusura lavori per iscrizioni inoltrare mail a eventsanddogs@gmail.com
END:VEVENT
END:VCALENDAR