BEGIN:VCALENDAR
VERSION:2.0
PRODID:-//eventon.com NONSGML v1.0//EN
BEGIN:VEVENT
UID:69e901c8bcf28
DTSTAMP:20260422T171344
DTSTART:20230415T090000Z
DTEND:20231210T180000Z
LOCATION:FELLOWS Dogs Beauty Louge + Academy Via Gavardina Di Sopra\,  34\,  Ponte San Marco
SUMMARY:CORSO PROFESSIONALE DI TOELETTATURA
DESCRIPTION: IN PARTENZA IL 15 APRILE Il primo corso in assoluto pensato e studiato ad hoc per fornire a tutti gli studenti formazione e competenze complete con rilascio dell'idoneità gestito da ente riconosciuto dalla Regione Lombardia 280 ore di formazione tra teoria e praticantato docenti di eccellenza\,  i migliori nel panorama[..]
END:VEVENT
END:VCALENDAR