BEGIN:VCALENDAR
VERSION:2.0
PRODID:-//eventon.com NONSGML v1.0//EN
BEGIN:VEVENT
UID:69e6b00713674
DTSTAMP:20260420T230023
DTSTART:20250321T090000Z
DTEND:20250323T180000Z
LOCATION:FELLOWS Dogs Beauty Louge + Academy Via Gavardina Di Sopra\,  34\,  Ponte San Marco
SUMMARY:CORSO PROPEDEUTICO - 21/22/23 MARZO 2025
DESCRIPTION: CORSO PROPEDEUTICO - 21/22/23 marzo 2025 Iscrizioni Aperte / Posti Limitati Luogo / Calcinato (BS) Area Formazione e Orientamento / (+39) 393 273 7535 Il corso propedeutico è il primo step formativo comune a tutte le figure\,  che ti permette di entrare a far parte del mondo degli Interventi Assistiti[..]
END:VEVENT
END:VCALENDAR